BEGIN:VCALENDAR
VERSION:2.0
PRODID:-//Department Of Education//a8c387fb-da4b-4e2f-91d9-4751a99a82b3
BEGIN:VTIMEZONE
TZID:Australia/Sydney
TZURL:http://tzurl.org/zoneinfo-outlook/Australia/Sydney
X-LIC-LOCATION:Australia/Sydney
BEGIN:STANDARD
TZOFFSETFROM:+1100
TZOFFSETTO:+1000
TZNAME:AEST
DTSTART:19700405T030000
RRULE:FREQ=YEARLY;BYMONTH=4;BYDAY=1SU
END:STANDARD
BEGIN:DAYLIGHT
TZOFFSETFROM:+1000
TZOFFSETTO:+1100
TZNAME:AEDT
DTSTART:19701004T020000
RRULE:FREQ=YEARLY;BYMONTH=10;BYDAY=1SU
END:DAYLIGHT
END:VTIMEZONE
CALSCALE:GREGORIAN
X-WR-TIMEZONE:Australia/Sydney
BEGIN:VEVENT
DTSTART;TZID=Australia/Sydney:20200303T090000
DTEND;TZID=Australia/Sydney:20200303T150000
DTSTAMP:20200303T000000Z
UID:a7a1341a-7b1c-4329-aa13-b7513e593a3e
LOCATION:Campbelltown Sports Stadium
SUMMARY;LANGUAGE=en-us:Train Like a Tiger
SEQUENCE:0
DESCRIPTION:As keen participants in the Varied Abilities Program, The West Tiger's will put on a BBQ lunch, chill out tent and Rugby League activities.
END:VEVENT
TRANSP:TRANSPARENT
END:VCALENDAR
