BEGIN:VCALENDAR
VERSION:2.0
PRODID:-//Department Of Education//cf337ef5-e76a-4dbd-9b62-53197f500f05
BEGIN:VTIMEZONE
TZID:Australia/Sydney
TZURL:http://tzurl.org/zoneinfo-outlook/Australia/Sydney
X-LIC-LOCATION:Australia/Sydney
BEGIN:STANDARD
TZOFFSETFROM:+1100
TZOFFSETTO:+1000
TZNAME:AEST
DTSTART:19700405T030000
RRULE:FREQ=YEARLY;BYMONTH=4;BYDAY=1SU
END:STANDARD
BEGIN:DAYLIGHT
TZOFFSETFROM:+1000
TZOFFSETTO:+1100
TZNAME:AEDT
DTSTART:19701004T020000
RRULE:FREQ=YEARLY;BYMONTH=10;BYDAY=1SU
END:DAYLIGHT
END:VTIMEZONE
CALSCALE:GREGORIAN
X-WR-TIMEZONE:Australia/Sydney
BEGIN:VEVENT
DTSTART;VALUE=DATE:20200330
DTEND;VALUE=DATE:20200404
DTSTAMP:20200330T000000Z
UID:e6412930-f6c2-446b-b858-f27a812bb475
LOCATION:Sarah Redfern Primary School
SUMMARY;LANGUAGE=en-us:Teeth N Smiles Visiting SRPS
SEQUENCE:0
DESCRIPTION:Free oral examination, scale, clean fluoride. Hand in your completed consent form, show up for a check up with Teeth N Smiles,  and go into the draw to win one of the three $200 gift vouchers.
END:VEVENT
TRANSP:TRANSPARENT
END:VCALENDAR
